BEGIN:VCALENDAR
VERSION:2.0
PRODID:-//hacksw/handcal//NONSGML v1.0//EN
BEGIN:VEVENT
SUMMARY:Etival 2 vs CP Le Lude 3
UID:c024f009-9b11-42ea-8b6c-673391fdbd7a
DTSTART:20260425T120000Z
DTEND:20260425T160000Z
LOCATION:Localisation Complexe sportif Le Bourg  Etival
CATEGORIES:Sportif
STATUS:
URL;VALUE=URI:https://cpl.sportsregions.fr/evenements/2026/04/25/etival-2-vs-cp-le-lude-3-2264233
END:VEVENT
END:VCALENDAR
