BEGIN:VCALENDAR
VERSION:2.0
PRODID:-//hacksw/handcal//NONSGML v1.0//EN
BEGIN:VEVENT
SUMMARY:CP Le Lude 1 vs Monce 1
UID:7792076f-1a94-4fad-80ce-25f71e0f078f
DTSTART:20260425T120000Z
DTEND:20260425T160000Z
LOCATION:CP Ludois Complexe sportif de Pontfour 72800 Le Lude
CATEGORIES:Sportif
STATUS:
URL;VALUE=URI:https://cpl.sportsregions.fr/evenements/2026/04/25/cp-le-lude-1-vs-monce-1-2264211
END:VEVENT
END:VCALENDAR
