BEGIN:VCALENDAR
VERSION:2.0
PRODID:-//hacksw/handcal//NONSGML v1.0//EN
BEGIN:VEVENT
SUMMARY:Stage vacances Avril
UID:871098c4-2efd-4441-8970-9332ad1b7376
DTSTART:20260416T070000Z
DTEND:20260416T150000Z
LOCATION:Localisation   
CATEGORIES:Stage
STATUS:
URL;VALUE=URI:https://cpl.sportsregions.fr/evenements/2026/04/16/stage-vacances-avril-2436724
END:VEVENT
END:VCALENDAR
